BEGIN:VCALENDAR
VERSION:2.0
PRODID:-//ChamberMaster//Event Calendar 2.0//EN
METHOD:PUBLISH
X-PUBLISHED-TTL:P3D
REFRESH-INTERVAL:P3D
CALSCALE:GREGORIAN
BEGIN:VEVENT
DTSTART;VALUE=DATE:20260214
DTEND;VALUE=DATE:20260215
TRANSP:TRANSPARENT
X-MICROSOFT-CDO-ALLDAYEVENT:TRUE
SUMMARY:Acting Out! Adult Acting Training
DESCRIPTION:Acting Out! is a monthly adult acting training class designed for first-time actors and experienced performers looking to sharpen their skills. Through scene study\, improvisation\, character work\, and ensemble exercises\, participants will build confidence\, strengthen technique\, and explore the fundamentals of acting in a relaxed\, supportive setting. *Open to participants ages 18 and up.
X-ALT-DESC;FMTTYPE=text/html:Acting Out! is a monthly adult acting training class designed for first-time actors and experienced performers looking to sharpen their skills. Through scene study\, improvisation\, character work\, and ensemble exercises\, participants will build confidence\, strengthen technique\, and explore the fundamentals of acting in a relaxed\, supportive setting. *Open to participants ages 18 and up.
LOCATION:Whidbey Playhouse Star Studio 730 SE Midway Blvd. Oak Harbor\, WA 98277
UID:e.1430.20756
SEQUENCE:3
DTSTAMP:20260419T124255Z
URL:https://business.oakharborchamber.com/events/details/acting-out-adult-acting-training-02-14-2026-20756
END:VEVENT

END:VCALENDAR
