BEGIN:VCALENDAR
VERSION:2.0
PRODID:-//ChamberMaster//Event Calendar 2.0//EN
METHOD:PUBLISH
X-PUBLISHED-TTL:P3D
REFRESH-INTERVAL:P3D
CALSCALE:GREGORIAN
BEGIN:VEVENT
DTSTART:20121018T220000Z
DTEND:20121018T230000Z
X-MICROSOFT-CDO-ALLDAYEVENT:FALSE
SUMMARY:A Star Shines
DESCRIPTION:friends of the Oak Harbor Library kick off their year with a presentation by the Island County Astronomical Association. Come to the star party and learn about what's out there. All are welcome.
X-ALT-DESC;FMTTYPE=text/html:friends of the Oak Harbor Library kick off their year with a presentation by the Island County Astronomical Association. Come to the star party and learn about what&#39\;s out there. All are welcome.
LOCATION:Oak Harbor Library 1000 SE Regatta Drive 360-675-5115
UID:e.1430.157
SEQUENCE:3
DTSTAMP:20260422T072946Z
URL:https://business.oakharborchamber.com/events/details/a-star-shines-10-18-2012-157
END:VEVENT

END:VCALENDAR
