BEGIN:VCALENDAR
VERSION:2.0
PRODID:-//ChamberMaster//Event Calendar 2.0//EN
METHOD:PUBLISH
X-PUBLISHED-TTL:P3D
REFRESH-INTERVAL:P3D
CALSCALE:GREGORIAN
BEGIN:VEVENT
DTSTART:20260327T190000Z
DTEND:20260329T230000Z
X-MICROSOFT-CDO-ALLDAYEVENT:FALSE
SUMMARY:44th Annual SICBA Home Show
DESCRIPTION:The SICBA Home Show is one of the largest home improvement events in Northwest Washington\, bringing together homeowners\, contractors\, and local businesses for a weekend of inspiration and education. Hosted by the Skagit/Island Counties Builders Association\, the 44th Annual Home Show takes place March 27 29\, 2026 at the Skagit County Fairgrounds in Mount Vernon\, featuring over 100 vendors showcasing the latest products\, services\, and innovations in home building\, remodeling\, landscaping\, and design. Attendees can explore vendor exhibits\, attend expert-led seminars\, and enjoy family-friendly activities\, food trucks\, live music\, and a beer garden tasting event.
X-ALT-DESC;FMTTYPE=text/html:The SICBA Home Show is one of the largest home improvement events in Northwest Washington\, bringing together homeowners\, contractors\, and local businesses for a weekend of inspiration and education. Hosted by the Skagit/Island Counties Builders Association\, the 44th Annual Home Show takes place March 27&ndash\;29\, 2026 at the Skagit County Fairgrounds in Mount Vernon\, featuring over 100 vendors showcasing the latest products\, services\, and innovations in home building\, remodeling\, landscaping\, and design. Attendees can explore vendor exhibits\, attend expert-led seminars\, and enjoy family-friendly activities\, food trucks\, live music\, and a beer garden tasting event.
LOCATION:Skagit County Fairgrounds 501 Taylor St\, Mount Vernon\, WA 98273
UID:e.1430.21033
SEQUENCE:3
DTSTAMP:20260426T015054Z
URL:https://business.oakharborchamber.com/events/details/44th-annual-sicba-home-show-21033
END:VEVENT

END:VCALENDAR
