BEGIN:VCALENDAR
VERSION:2.0
PRODID:-//ChamberMaster//Event Calendar 2.0//EN
METHOD:PUBLISH
X-PUBLISHED-TTL:P3D
REFRESH-INTERVAL:P3D
CALSCALE:GREGORIAN
BEGIN:VEVENT
DTSTART:20260121T020000Z
DTEND:20260121T030000Z
X-MICROSOFT-CDO-ALLDAYEVENT:FALSE
SUMMARY:2026 Wearable Art Show: Meet & Greet Informational for Artists
DESCRIPTION:The Wearable Art Runway Show is an event produced by the Oak Harbor Senior Center Foundation\, a 501(c)3 organization in partnership with Oak Harbor Parks and Recreation. Funding is raised to support Gifts of Connection\, a Holiday Gift Program for isolated individuals over 50\, Scholarships for membership and program fees for older adult activities at the center.
X-ALT-DESC;FMTTYPE=text/html:<span style="color: rgb(0\, 0\, 0)\; font-family: &quot\;Segoe UI&quot\;\, &quot\;Lucida Grande&quot\;\, Tahoma\, sans-serif\; font-size: 15px\; white-space-collapse: preserve\;">The Wearable Art Runway Show is an event produced by the Oak Harbor Senior Center Foundation\, a 501(c)3 organization in partnership with Oak Harbor Parks and Recreation. Funding is raised to support Gifts of Connection\, a Holiday Gift Program for isolated individuals over 50\, Scholarships for membership and program fees for older adult activities at the center.</span>
LOCATION:
UID:e.1430.20739
SEQUENCE:3
DTSTAMP:20260420T144435Z
URL:https://business.oakharborchamber.com/events/details/2026-wearable-art-show-meet-greet-informational-for-artists-20739
END:VEVENT

END:VCALENDAR
