BEGIN:VCALENDAR
VERSION:2.0
PRODID:-//ChamberMaster//Event Calendar 2.0//EN
METHOD:PUBLISH
X-PUBLISHED-TTL:P3D
REFRESH-INTERVAL:P3D
CALSCALE:GREGORIAN
BEGIN:VEVENT
DTSTART;VALUE=DATE:20260516
DTEND;VALUE=DATE:20260517
TRANSP:TRANSPARENT
X-MICROSOFT-CDO-ALLDAYEVENT:TRUE
SUMMARY:2026 Wearable Art Show: An Unexpected Runway Show with Flair
DESCRIPTION:The Wearable Art Runway Show is an event produced by the Oak Harbor Senior Center Foundation\, a 501(c)3 organization in partnership with Oak Harbor Parks and Recreation. Funding is raised to support Gifts of Connection\, a Holiday Gift Program for isolated individuals over 50\, Scholarships for membership and program fees for older adult activities at the center.
X-ALT-DESC;FMTTYPE=text/html:<span style="color: rgb(0\, 0\, 0)\; font-family: &quot\;Segoe UI&quot\;\, &quot\;Lucida Grande&quot\;\, Tahoma\, sans-serif\; font-size: 15px\; white-space-collapse: preserve\;">The Wearable Art Runway Show is an event produced by the Oak Harbor Senior Center Foundation\, a 501(c)3 organization in partnership with Oak Harbor Parks and Recreation. Funding is raised to support Gifts of Connection\, a Holiday Gift Program for isolated individuals over 50\, Scholarships for membership and program fees for older adult activities at the center.</span>
LOCATION:
UID:e.1430.20728
SEQUENCE:3
DTSTAMP:20260426T003054Z
URL:https://business.oakharborchamber.com/events/details/2026-wearable-art-show-an-unexpected-runway-show-with-flair-20728
END:VEVENT

END:VCALENDAR
