BEGIN:VCALENDAR
VERSION:2.0
PRODID:-//ChamberMaster//Event Calendar 2.0//EN
METHOD:PUBLISH
X-PUBLISHED-TTL:P3D
REFRESH-INTERVAL:P3D
CALSCALE:GREGORIAN
BEGIN:VEVENT
DTSTART:20261011T010000Z
DTEND:20261011T050000Z
X-MICROSOFT-CDO-ALLDAYEVENT:FALSE
SUMMARY:2026 Chamber Awards Banquet- Through The Decades
DESCRIPTION:Through the Decades is the theme!\n\n\n\nCome dance the evening away and celebrate last year's accomplishments with us. Scrumptious appetizers will be served and delicious drinks will be available. Each table is fabulously decorated with a free gift for each seat by generous sponsors. Carefully curated auction and raffle items for your shopping pleasure will round out the evening. All proceeds go to the 2027 Holland Happening/Independence Day Celebration.
X-ALT-DESC;FMTTYPE=text/html:Through the Decades is the theme!<br />\n<br />\nCome dance the evening away and celebrate last year&rsquo\;s accomplishments with us. Scrumptious appetizers will be served and delicious drinks will be available. Each table is fabulously decorated with a free gift for each seat by generous sponsors. Carefully curated auction and raffle items for your shopping pleasure will round out the evening. All proceeds go to the 2027 Holland Happening/Independence Day Celebration.&nbsp\;
LOCATION:The Elks Lodge
UID:e.1430.20797
SEQUENCE:3
DTSTAMP:20260425T173307Z
URL:https://business.oakharborchamber.com/events/details/2026-chamber-awards-banquet-through-the-decades-20797
END:VEVENT

END:VCALENDAR
