BEGIN:VCALENDAR
VERSION:2.0
PRODID:-//ChamberMaster//Event Calendar 2.0//EN
METHOD:PUBLISH
X-PUBLISHED-TTL:P3D
REFRESH-INTERVAL:P3D
CALSCALE:GREGORIAN
BEGIN:VEVENT
DTSTART;VALUE=DATE:20121212
DTEND;VALUE=DATE:20121213
TRANSP:TRANSPARENT
X-MICROSOFT-CDO-ALLDAYEVENT:TRUE
SUMMARY:12% Off Day
DESCRIPTION:12% off Day at Click Music on Wed\, 12/12/12! Everything in the Store 12% OFF (excludes repairs\, lessons\, consignments\, rentals\, gift cards). So stop on by for a great deal and don't forget that we are OPEN every day until Christmas 10:00 am ~ 8:00 pm.
X-ALT-DESC;FMTTYPE=text/html:<p>\n	<font color="#020a01"><span style="font-size: 10pt"><b>12% off Day at Click Music</b></span><font face="Arial\,Helvetica\,sans-serif" size="2"><span style="font-size: 10pt"> on Wed\, 12/12/12! Everything in the Store 12% OFF (excludes repairs\, lessons\, consignments\, rentals\, gift cards). So stop on by for a great deal and don&#39\;t forget that we are OPEN every day until Christmas 10:00 am ~ 8:00 pm.&nbsp\; </span></font></font></p>\n
LOCATION:1130 NE 7th Ave.
UID:e.1430.251
SEQUENCE:3
DTSTAMP:20260420T201201Z
URL:https://business.oakharborchamber.com/events/details/12-off-day-12-12-2012-251
END:VEVENT

END:VCALENDAR
